BEGIN:VCALENDAR
VERSION:2.0
PRODID:-// - ECPv6.15.20//NONSGML v1.0//EN
CALSCALE:GREGORIAN
METHOD:PUBLISH
X-ORIGINAL-URL:https://firstdallas.org
X-WR-CALDESC:Events for 
REFRESH-INTERVAL;VALUE=DURATION:PT1H
X-Robots-Tag:noindex
X-PUBLISHED-TTL:PT1H
BEGIN:VTIMEZONE
TZID:America/Chicago
BEGIN:DAYLIGHT
TZOFFSETFROM:-0600
TZOFFSETTO:-0500
TZNAME:CDT
DTSTART:20210314T080000
END:DAYLIGHT
BEGIN:STANDARD
TZOFFSETFROM:-0500
TZOFFSETTO:-0600
TZNAME:CST
DTSTART:20211107T070000
END:STANDARD
BEGIN:DAYLIGHT
TZOFFSETFROM:-0600
TZOFFSETTO:-0500
TZNAME:CDT
DTSTART:20220313T080000
END:DAYLIGHT
BEGIN:STANDARD
TZOFFSETFROM:-0500
TZOFFSETTO:-0600
TZNAME:CST
DTSTART:20221106T070000
END:STANDARD
BEGIN:DAYLIGHT
TZOFFSETFROM:-0600
TZOFFSETTO:-0500
TZNAME:CDT
DTSTART:20230312T080000
END:DAYLIGHT
BEGIN:STANDARD
TZOFFSETFROM:-0500
TZOFFSETTO:-0600
TZNAME:CST
DTSTART:20231105T070000
END:STANDARD
END:VTIMEZONE
BEGIN:VEVENT
DTSTART;TZID=America/Chicago:20220508T121500
DTEND;TZID=America/Chicago:20220508T121500
DTSTAMP:20260423T062556
CREATED:20220407T200952Z
LAST-MODIFIED:20230504T141853Z
UID:11964-1652012100-1652012100@firstdallas.org
SUMMARY:Single Mothers | Mother's Day Lunch
DESCRIPTION:Are you a single mother? Well\, we want to celebrate you this Mother’s Day!  \nOn Mother’s Day\, our Strong and Courageous Ministry will host our Second Annual Churchwide Single Moms Luncheon at 12:15pm in the Atrium. We hope you can join us for a time of fellowship and reflection on the joys of motherhood. \n“Strength and dignity are her clothing\, And she smiles at the future. She opens her mouth in wisdom\, And the teaching of kindness is on her tongue.” Proverbs 31:25-26 \nREGISTER HERE
URL:https://firstdallas.org/event/single-moms-mothers-day-lunch/2022-05-08/
LOCATION:Atrium
CATEGORIES:Single Moms
ATTACH;FMTTYPE=image/jpeg:https://firstdallas.org/wp-content/uploads/2022/04/Women_SCfellowship_h-1.jpg
END:VEVENT
END:VCALENDAR