BEGIN:VCALENDAR
VERSION:2.0
PRODID:-// - ECPv6.15.20//NONSGML v1.0//EN
CALSCALE:GREGORIAN
METHOD:PUBLISH
X-ORIGINAL-URL:https://firstdallas.org
X-WR-CALDESC:Events for 
REFRESH-INTERVAL;VALUE=DURATION:PT1H
X-Robots-Tag:noindex
X-PUBLISHED-TTL:PT1H
BEGIN:VTIMEZONE
TZID:America/Chicago
BEGIN:DAYLIGHT
TZOFFSETFROM:-0600
TZOFFSETTO:-0500
TZNAME:CDT
DTSTART:20210314T080000
END:DAYLIGHT
BEGIN:STANDARD
TZOFFSETFROM:-0500
TZOFFSETTO:-0600
TZNAME:CST
DTSTART:20211107T070000
END:STANDARD
BEGIN:DAYLIGHT
TZOFFSETFROM:-0600
TZOFFSETTO:-0500
TZNAME:CDT
DTSTART:20220313T080000
END:DAYLIGHT
BEGIN:STANDARD
TZOFFSETFROM:-0500
TZOFFSETTO:-0600
TZNAME:CST
DTSTART:20221106T070000
END:STANDARD
BEGIN:DAYLIGHT
TZOFFSETFROM:-0600
TZOFFSETTO:-0500
TZNAME:CDT
DTSTART:20230312T080000
END:DAYLIGHT
BEGIN:STANDARD
TZOFFSETFROM:-0500
TZOFFSETTO:-0600
TZNAME:CST
DTSTART:20231105T070000
END:STANDARD
END:VTIMEZONE
BEGIN:VEVENT
DTSTART;TZID=America/Chicago:20220605T123000
DTEND;TZID=America/Chicago:20220605T123000
DTSTAMP:20260423T045831
CREATED:20220328T162047Z
LAST-MODIFIED:20220525T175404Z
UID:11232-1654432200-1654432200@firstdallas.org
SUMMARY:Single Adults | Luncheon
DESCRIPTION:We hope you’re hungry! We want to help feed your mind\, body\, and soul! Join us for our Single Adults Luncheon on Sunday\, June 5. We hope you can invite your friends to join us.  \nRegistration will open May 1 and will cover the cost of lunch as you fellowship alongside your church family. We look forward to sharing our Sunday afternoon with you!  \nREGISTER HERE
URL:https://firstdallas.org/event/single-adults-45-lunch/
LOCATION:Criswell Atrium
CATEGORIES:Single Adults
ATTACH;FMTTYPE=image/jpeg:https://firstdallas.org/wp-content/uploads/2022/03/Singles_AdultLunch_h-1.jpg
END:VEVENT
BEGIN:VEVENT
DTSTART;TZID=America/Chicago:20220605T180000
DTEND;TZID=America/Chicago:20220605T180000
DTSTAMP:20260423T045831
CREATED:20220517T164142Z
LAST-MODIFIED:20220622T212300Z
UID:12645-1654452000-1654452000@firstdallas.org
SUMMARY:Sports | Men's Softball | Summer 2022
DESCRIPTION:Your summer will be a home run if you sign up today to participate in our recreational Men’s Softball League. All men 18 years and older are welcome to join us once a week on Thursday evenings at Huffhines Park to play. It’s only $50 per person to join the league all summer long. Hope you’re ready to knock it out of the park!  \n 
URL:https://firstdallas.org/event/sports/2022-06-05/
LOCATION:Huffhines Park – Richardson\, TX
CATEGORIES:Men
ATTACH;FMTTYPE=image/png:https://firstdallas.org/wp-content/uploads/2022/05/MensSports_Softball_Summ2022_h.png
END:VEVENT
END:VCALENDAR