BEGIN:VCALENDAR
VERSION:2.0
PRODID:-// - ECPv6.15.20//NONSGML v1.0//EN
CALSCALE:GREGORIAN
METHOD:PUBLISH
X-ORIGINAL-URL:https://firstdallas.org
X-WR-CALDESC:Events for 
REFRESH-INTERVAL;VALUE=DURATION:PT1H
X-Robots-Tag:noindex
X-PUBLISHED-TTL:PT1H
BEGIN:VTIMEZONE
TZID:America/Chicago
BEGIN:DAYLIGHT
TZOFFSETFROM:-0600
TZOFFSETTO:-0500
TZNAME:CDT
DTSTART:20220313T080000
END:DAYLIGHT
BEGIN:STANDARD
TZOFFSETFROM:-0500
TZOFFSETTO:-0600
TZNAME:CST
DTSTART:20221106T070000
END:STANDARD
BEGIN:DAYLIGHT
TZOFFSETFROM:-0600
TZOFFSETTO:-0500
TZNAME:CDT
DTSTART:20230312T080000
END:DAYLIGHT
BEGIN:STANDARD
TZOFFSETFROM:-0500
TZOFFSETTO:-0600
TZNAME:CST
DTSTART:20231105T070000
END:STANDARD
BEGIN:DAYLIGHT
TZOFFSETFROM:-0600
TZOFFSETTO:-0500
TZNAME:CDT
DTSTART:20240310T080000
END:DAYLIGHT
BEGIN:STANDARD
TZOFFSETFROM:-0500
TZOFFSETTO:-0600
TZNAME:CST
DTSTART:20241103T070000
END:STANDARD
END:VTIMEZONE
BEGIN:VEVENT
DTSTART;TZID=America/Chicago:20230519T180000
DTEND;TZID=America/Chicago:20230519T220000
DTSTAMP:20260425T070248
CREATED:20220408T161858Z
LAST-MODIFIED:20230515T205326Z
UID:11981-1684519200-1684533600@firstdallas.org
SUMMARY:Students | Junior High Hangout
DESCRIPTION:7th and 8th graders\, let’s hangout! Invite your friends\, and join us on Friday\, May 19 for a night at the Speedway! Join us in the Student Center. This event is free for all who attend! \nFill out the form below to let us know you’re coming! \n\n\n                \n                        \n                            Students | Jr High Hangout\n                             \n                        \n                        FIRST NAME(Required)LAST NAME(Required)PHONE(Required)EMAIL(Required)
URL:https://firstdallas.org/event/students-junior-high-hangout/
LOCATION:Student Center
CATEGORIES:Students
ATTACH;FMTTYPE=image/png:https://firstdallas.org/wp-content/uploads/2022/04/Speedway-Hangout-02.png
END:VEVENT
BEGIN:VEVENT
DTSTART;TZID=America/Chicago:20230519T183000
DTEND;TZID=America/Chicago:20230519T183000
DTSTAMP:20260425T070248
CREATED:20220324T203304Z
LAST-MODIFIED:20230519T180607Z
UID:10414-1684521000-1684521000@firstdallas.org
SUMMARY:Around The Piano | Encore
DESCRIPTION:Join us for a relaxing dinner-theater-style evening of pure entertainment around the piano including a selection of both secular and sacred music. The artists for the evening have a combined 100+ years of bringing joy to audiences around the world. Their love for the Lord and their God-given talents drive them to deliver excellence in musical entertainment. This is an evening that you do NOT want to miss. Invite your friends and family. \nFirst Dallas’s own Chef Tim is preparing a great meal and we will continue the second act with a coffee and dessert bar. Meal service will begin at 7pm\, and Act 1 will begin at 7:30pm. \nTickets are $20 per person and will be available soon. Seating for the evening is “open” however if you have a large group of at least six people\, you can call Jeff Adams at 214-969-2407 to reserve tables in multiples of “6”. For more questions\, please email Jeff at jadams@firstdallas.org. Dress for the evening is business casual. \n“Center Stage” at First Baptist Dallas is located on the third floor of the Criswell Building (1707 San Jacinto.) The best parking is in our Horner Garage behind the Horner Children’s Building located east of St. Paul off San Jacinto. From the Horner Garage\, follow the curved bridge/concourse around past the Worship Center to the Criswell Building. Center Stage is just up the stairs and to the left. \nOur Guest Artists:\nTeresa Maria Gomez\, soprano\, has been a featured soloist with the Dallas Symphony\, Dallas Wind Symphony\, Plano Symphony\, El Paso Symphony\, Missouri Symphony Orchestra\, Knoxville Symphony\, the Symphonic Orchestra of Slovak Radio\, and the Israeli Chamber Orchestra. Ms. Gomez was voted “Most Outstanding Senior in Music” by the College of Music Faculty at the University of North Texas where she received her Bachelor of Music degree. Teresa was the winner of the Grady Harlen Award for the “Most Outstanding Performer” in the National Association of Teachers of Singing competition. She and her husband\, Paul\, reside in Rogers\, AR where she teaches voice and piano and is the Director of Music at the First Baptist Church of Lowell. \nMiriam Wallace got her start as a professional singer and pianist in Abilene\, Texas during the 1980s\, was a featured singer with DFW party bands since the 90s\, and continues to sing and play throughout Texas. She is also a worship leader and facilitator for ministry events for over 30 years. She and her husband\, Matt live on the Wallace family farm in central Texas and continue to “minister to ministers” and facilitate greater good work via their non-profit\, International Covered Ministries. Miriam also can be seen live-streaming weekly on Twitch.TV as “MutherMirm” where she sings and plays requests from her 1000+ song repertoire. \nMorgan Wallace Tremillo is a worship leader\, vocal coach\, and performer who established herself as a driving musical force in DFW and now resides in San Antonio\, Texas. At age 17\, she self-released her debut album “Progressions\,” a collection of solo classical piano works that showcase a musical maturity that was well beyond her years. Morgan furthered her musical studies at the University of North Texas\, graduating with a Bachelor’s degree in Jazz Studies with an emphasis in Vocal Performance in 2016. She is often acclaimed for her rich\, velvety voice\, her warm and charismatic stage presence\, and clever arrangements. She is the Worship & Disciple-Making Minister at First Baptist Church of Castroville\, Texas.
URL:https://firstdallas.org/event/around-the-piano-encore/
LOCATION:CenterStage
CATEGORIES:Married Adults,Senior Adults,Men,Women
ATTACH;FMTTYPE=image/jpeg:https://firstdallas.org/wp-content/uploads/2022/03/Around-the-Piano-2023-C2-1.jpg
END:VEVENT
END:VCALENDAR