BEGIN:VCALENDAR
VERSION:2.0
PRODID:-// - ECPv6.15.20//NONSGML v1.0//EN
CALSCALE:GREGORIAN
METHOD:PUBLISH
X-ORIGINAL-URL:https://firstdallas.org
X-WR-CALDESC:Events for 
REFRESH-INTERVAL;VALUE=DURATION:PT1H
X-Robots-Tag:noindex
X-PUBLISHED-TTL:PT1H
BEGIN:VTIMEZONE
TZID:America/Chicago
BEGIN:DAYLIGHT
TZOFFSETFROM:-0600
TZOFFSETTO:-0500
TZNAME:CDT
DTSTART:20220313T080000
END:DAYLIGHT
BEGIN:STANDARD
TZOFFSETFROM:-0500
TZOFFSETTO:-0600
TZNAME:CST
DTSTART:20221106T070000
END:STANDARD
BEGIN:DAYLIGHT
TZOFFSETFROM:-0600
TZOFFSETTO:-0500
TZNAME:CDT
DTSTART:20230312T080000
END:DAYLIGHT
BEGIN:STANDARD
TZOFFSETFROM:-0500
TZOFFSETTO:-0600
TZNAME:CST
DTSTART:20231105T070000
END:STANDARD
BEGIN:DAYLIGHT
TZOFFSETFROM:-0600
TZOFFSETTO:-0500
TZNAME:CDT
DTSTART:20240310T080000
END:DAYLIGHT
BEGIN:STANDARD
TZOFFSETFROM:-0500
TZOFFSETTO:-0600
TZNAME:CST
DTSTART:20241103T070000
END:STANDARD
END:VTIMEZONE
BEGIN:VEVENT
DTSTART;TZID=America/Chicago:20230911T103000
DTEND;TZID=America/Chicago:20230911T140000
DTSTAMP:20260421T032841
CREATED:20230901T192605Z
LAST-MODIFIED:20240603T172947Z
UID:28064-1694428200-1694440800@firstdallas.org
SUMMARY:Senior Adult Game Day
DESCRIPTION:Senior adults—join us on the second Monday of each month for Game Day\, starting at 10:30am in CC501. We’ll have dominoes\, cards\, puzzles\, and board games\, or bring your favorite games to share. You can purchase lunch at St. Paul Cafe\, bring your own lunch\, or bring food to share if you’re feeling generous. See you for Game Day!
URL:https://firstdallas.org/event/senior-adult-game-day/2023-09-11/
LOCATION:CC501
CATEGORIES:Senior Adults
ATTACH;FMTTYPE=image/png:https://firstdallas.org/wp-content/uploads/2023/09/FD_Senior-Game-Night-01.png
END:VEVENT
END:VCALENDAR