BEGIN:VCALENDAR
VERSION:2.0
PRODID:-// - ECPv6.15.20//NONSGML v1.0//EN
CALSCALE:GREGORIAN
METHOD:PUBLISH
X-ORIGINAL-URL:https://firstdallas.org
X-WR-CALDESC:Events for 
REFRESH-INTERVAL;VALUE=DURATION:PT1H
X-Robots-Tag:noindex
X-PUBLISHED-TTL:PT1H
BEGIN:VTIMEZONE
TZID:America/Chicago
BEGIN:DAYLIGHT
TZOFFSETFROM:-0600
TZOFFSETTO:-0500
TZNAME:CDT
DTSTART:20230312T080000
END:DAYLIGHT
BEGIN:STANDARD
TZOFFSETFROM:-0500
TZOFFSETTO:-0600
TZNAME:CST
DTSTART:20231105T070000
END:STANDARD
BEGIN:DAYLIGHT
TZOFFSETFROM:-0600
TZOFFSETTO:-0500
TZNAME:CDT
DTSTART:20240310T080000
END:DAYLIGHT
BEGIN:STANDARD
TZOFFSETFROM:-0500
TZOFFSETTO:-0600
TZNAME:CST
DTSTART:20241103T070000
END:STANDARD
BEGIN:DAYLIGHT
TZOFFSETFROM:-0600
TZOFFSETTO:-0500
TZNAME:CDT
DTSTART:20250309T080000
END:DAYLIGHT
BEGIN:STANDARD
TZOFFSETFROM:-0500
TZOFFSETTO:-0600
TZNAME:CST
DTSTART:20251102T070000
END:STANDARD
END:VTIMEZONE
BEGIN:VEVENT
DTSTART;TZID=America/Chicago:20240115T183000
DTEND;TZID=America/Chicago:20240115T183000
DTSTAMP:20260421T112737
CREATED:20230602T174140Z
LAST-MODIFIED:20241203T213516Z
UID:26558-1705343400-1705343400@firstdallas.org
SUMMARY:Far North Dallas Community Group
DESCRIPTION:All those in the Far North Dallas area are invited to join the Far North Dallas Community Group\, led by Brad and Edika Buckman! We met on the third Monday of each month at 6:30pm. At every Community Group gathering there will be a brief devotional and discussion from God’s Word\, a time of intentional prayer\, food\, fellowship\, and fun. \n\n\n                \n                        \n                            Community Groups | Far North Dallas\n                             \n                        \n                        First Name(Required)Last Name(Required)Email(Required)\n                            \n                        PhoneAgeCOMMENTS OR QUESTIONS\n          \n            \n            \n            \n            \n            \n            \n            \n            \n            \n            \n            \n            \n            \n        \n                        \n                        \n		                \n		                \n\n  \n 
URL:https://firstdallas.org/event/far-north-dallas-community-group/2024-01-15/
CATEGORIES:Single Adults,Married Adults,Senior Adults,Men,Women,Single Moms
ATTACH;FMTTYPE=image/jpeg:https://firstdallas.org/wp-content/uploads/2023/06/CommGroups2022_FarNorthDallas_h-1.jpg
END:VEVENT
BEGIN:VEVENT
DTSTART;TZID=America/Chicago:20240115T184500
DTEND;TZID=America/Chicago:20240115T220000
DTSTAMP:20260421T112737
CREATED:20211221T200035Z
LAST-MODIFIED:20240131T171221Z
UID:8031-1705344300-1705356000@firstdallas.org
SUMMARY:Men's Basketball
DESCRIPTION:Men’s Basketball offers fun and fellowship for those who want to play at a competitive or a recreational level. \nRegistration is closed. Email bmcfadden@firstdallas.org with questions. \nVIEW SCHEDULE HERE \nFREE AGENTS\nFree agents are those registering individually. Free agents will be placed on a team prior to the start of the season. \nTEAMS\nWe welcome those who will be bringing a team in. When registering\, please list who your team captain is so that our team can put you on the correct roster. All teams must leave one roster spot open for a potential free agent to be added. \nWHEN\nMonday Evenings | January 15th–March 4th \nWHERE\nFirst Baptist Dallas—Wicker Gym (1935 San Jacinto)\nPark in the Horner Garage on any floor. Take the south elevators to the 6th floor. The gym will be on your left out of the elevators. \nCOST\n$50 per player \nTIME\nGames between 6:45–10pm \nDIVISIONS\nCompetitive and Recreation \n  \n 
URL:https://firstdallas.org/event/mens-basketball/2024-01-15/
LOCATION:Wicker Gym
CATEGORIES:Men
ATTACH;FMTTYPE=image/jpeg:https://firstdallas.org/wp-content/uploads/2021/12/Sports_MensBBall_Winter-2024_H.jpg
END:VEVENT
END:VCALENDAR