BEGIN:VCALENDAR
VERSION:2.0
PRODID:-// - ECPv6.15.20//NONSGML v1.0//EN
CALSCALE:GREGORIAN
METHOD:PUBLISH
X-ORIGINAL-URL:https://firstdallas.org
X-WR-CALDESC:Events for 
REFRESH-INTERVAL;VALUE=DURATION:PT1H
X-Robots-Tag:noindex
X-PUBLISHED-TTL:PT1H
BEGIN:VTIMEZONE
TZID:America/Chicago
BEGIN:DAYLIGHT
TZOFFSETFROM:-0600
TZOFFSETTO:-0500
TZNAME:CDT
DTSTART:20230312T080000
END:DAYLIGHT
BEGIN:STANDARD
TZOFFSETFROM:-0500
TZOFFSETTO:-0600
TZNAME:CST
DTSTART:20231105T070000
END:STANDARD
BEGIN:DAYLIGHT
TZOFFSETFROM:-0600
TZOFFSETTO:-0500
TZNAME:CDT
DTSTART:20240310T080000
END:DAYLIGHT
BEGIN:STANDARD
TZOFFSETFROM:-0500
TZOFFSETTO:-0600
TZNAME:CST
DTSTART:20241103T070000
END:STANDARD
BEGIN:DAYLIGHT
TZOFFSETFROM:-0600
TZOFFSETTO:-0500
TZNAME:CDT
DTSTART:20250309T080000
END:DAYLIGHT
BEGIN:STANDARD
TZOFFSETFROM:-0500
TZOFFSETTO:-0600
TZNAME:CST
DTSTART:20251102T070000
END:STANDARD
END:VTIMEZONE
BEGIN:VEVENT
DTSTART;VALUE=DATE:20240630
DTEND;VALUE=DATE:20240722
DTSTAMP:20260424T054112
CREATED:20240621T162205Z
LAST-MODIFIED:20240621T162205Z
UID:36576-1719705600-1721606399@firstdallas.org
SUMMARY:Be of Good Cheer at Truett Library
DESCRIPTION:Biographies encourage us\, often teaching us life lessons and motivation to be of good cheer. You are invited to join us at the Truett Library for a day filled with biography exploration and prizes! From Sunday\, June 30 to Sunday\, July 21\, all ages are welcomed to come and enjoy our library’s selection\, fill out your reading log\, and choose your earned prize. There is a variety to explore\, including books\, audiobooks\, and DVDs that are all biographies of Christians. Then in August\, experience our library’s fellowship through our celebration in CenterStage\, and enjoy a meal prepared by Chef Tim and his team while trophies are presented. Let’s cheer one another on during this exciting event!
URL:https://firstdallas.org/event/be-of-good-cheer-at-truett-library/
LOCATION:Truett Library
CATEGORIES:Churchwide
ATTACH;FMTTYPE=image/png:https://firstdallas.org/wp-content/uploads/2024/06/Be-of-good-CHEER-01.png
END:VEVENT
BEGIN:VEVENT
DTSTART;VALUE=DATE:20240713
DTEND;VALUE=DATE:20240722
DTSTAMP:20260424T054112
CREATED:20220106T213450Z
LAST-MODIFIED:20240618T182903Z
UID:8359-1720828800-1721606399@firstdallas.org
SUMMARY:Guatemala Construction & VBS Mission Trip
DESCRIPTION:Our construction and VBS team will be headed to Guatemala on July 13–21. For four days\, the team will be building homes\, bunk beds\, and stoves for families (typically single mothers and many children). All the while\, we take every opportunity to share the gospel. This is where our VBS team comes in. While part of our team is building the homes\, our VBS team will share the gospel using coloring books and stickers with the children and the moms. \nFor more information\, please contact the Missions Department at missions@firstdallas.org  or 214.969.2410.
URL:https://firstdallas.org/event/guatemala-construction-mission-trip/
LOCATION:Guatemala
CATEGORIES:Churchwide
ATTACH;FMTTYPE=image/jpeg:https://firstdallas.org/wp-content/uploads/2022/01/16x9_GuatemalaConstr-Approved-scaled.jpg
END:VEVENT
BEGIN:VEVENT
DTSTART;VALUE=DATE:20240720
DTEND;VALUE=DATE:20240729
DTSTAMP:20260424T054112
CREATED:20220106T213650Z
LAST-MODIFIED:20240618T182856Z
UID:8362-1721433600-1722211199@firstdallas.org
SUMMARY:Guatemala Medical & VBS Mission Trip
DESCRIPTION:Our medical team travels to small outlying locations each day to host medical clinics. We host four successive days of clinics that draw from 50-150 people with a variety of health needs\, many of them basic. The goal is to minister to everyone spiritually while we help meet their medical needs. While our medical team is handling things at the clinics\, we have a VBS for the children and families that attend the four days of medical clinics. We have developed a program that helps share the gospel which we use to minister to everyone who arrives for the clinics. We see 50–200 children at a single medical clinic. \nFor more information\, please contact the Missions Department at missions@firstdallas.org  or 214.969.2410.
URL:https://firstdallas.org/event/guatemala-medical-vbs-mission-trip/
LOCATION:Guatemala
CATEGORIES:Churchwide
ATTACH;FMTTYPE=image/jpeg:https://firstdallas.org/wp-content/uploads/2022/01/16x9_GuatemalaMEDVBS-Approved-scaled.jpg
END:VEVENT
BEGIN:VEVENT
DTSTART;TZID=America/Chicago:20240721T090000
DTEND;TZID=America/Chicago:20240721T090000
DTSTAMP:20260424T054112
CREATED:20220802T182104Z
LAST-MODIFIED:20220802T182104Z
UID:49364-1721552400-1721552400@firstdallas.org
SUMMARY:Pastor's Prayer Partners | Women
DESCRIPTION:Women are invited to join us in prayer for our pastor and church as part of Pastor’s Prayer Partners–Women. We meet each Sunday at 11am and the first Sunday of every month at 9am in Worship Center Level 1 – Missions Room 107B. \nIf you are interested or looking for more information\, please contact womensmin@firstdallas.org. \n\n\n                \n                        \n                            Pastor Prayer Partners | Women\n                             \n                        \n                        FIRST NAME(Required)LAST NAME(Required)PHONEEMAIL(Required)\n                            \n                        DOES YOUR CELL ACCEPT TEXT MESSAGES?(Required)DOES YOUR CELL ACCEPT TEXT MESSAGES? \n								\n								YES\n							\n								\n								NO\n							WORSHIP SERVICE YOU ATTEND:(Required)WORSHIP SERVICE YOU ATTEND:\n								\n								CHOIR & ORCHESTRA LED WORSHIP 9:15AM\n							\n								\n								CHOIR & ORCHESTRA LED WORSHIP 11AM\n							\n								\n								DAY ONE BAND-LED WORSHIP 11AM\n							PREFERRED SUNDAY TO SERVE(Required)PREFERRED SUNDAY TO SERVE\n								\n								1ST\n							\n								\n								2ND\n							\n								\n								3RD\n							\n								\n								4TH\n							ARE YOU A MEMBER OF THE CHOIR & ORCHESTRA?(Required)ARE YOU A MEMBER OF THE CHOIR & ORCHESTRA?\n								\n								YES\n							\n								\n								NO
URL:https://firstdallas.org/event/pastors-prayer-partners-women/2024-07-21/
CATEGORIES:Women
ATTACH;FMTTYPE=image/jpeg:https://firstdallas.org/wp-content/uploads/2022/08/PPP_Women_h.jpg
END:VEVENT
BEGIN:VEVENT
DTSTART;TZID=America/Chicago:20240721T110000
DTEND;TZID=America/Chicago:20240721T110000
DTSTAMP:20260424T054112
CREATED:20220802T182104Z
LAST-MODIFIED:20250917T161209Z
UID:47555-1721559600-1721559600@firstdallas.org
SUMMARY:Pastor's Prayer Partners | Women
DESCRIPTION:Women are invited to join us in prayer for our pastor and church as part of Pastor’s Prayer Partners–Women. We meet each Sunday at 11am and the first Sunday of every month at 9am in Worship Center Level 1 – Missions Room 107B. \nIf you are interested or looking for more information\, please contact womensmin@firstdallas.org. \n\n                \n                        \n                            Pastor Prayer Partners | Women\n                             \n                        \n                        FIRST NAME(Required)LAST NAME(Required)PHONEEMAIL(Required)\n                            \n                        DOES YOUR CELL ACCEPT TEXT MESSAGES?(Required)DOES YOUR CELL ACCEPT TEXT MESSAGES? \n								\n								YES\n							\n								\n								NO\n							WORSHIP SERVICE YOU ATTEND:(Required)WORSHIP SERVICE YOU ATTEND:\n								\n								CHOIR & ORCHESTRA LED WORSHIP 9:15AM\n							\n								\n								CHOIR & ORCHESTRA LED WORSHIP 11AM\n							\n								\n								DAY ONE BAND-LED WORSHIP 11AM\n							PREFERRED SUNDAY TO SERVE(Required)PREFERRED SUNDAY TO SERVE\n								\n								1ST\n							\n								\n								2ND\n							\n								\n								3RD\n							\n								\n								4TH\n							ARE YOU A MEMBER OF THE CHOIR & ORCHESTRA?(Required)ARE YOU A MEMBER OF THE CHOIR & ORCHESTRA?\n								\n								YES\n							\n								\n								NO
URL:https://firstdallas.org/event/pastors-prayer-partners-women/2024-07-21/10/
CATEGORIES:Women
ATTACH;FMTTYPE=image/jpeg:https://firstdallas.org/wp-content/uploads/2022/08/PPP_Women_h.jpg
END:VEVENT
BEGIN:VEVENT
DTSTART;TZID=America/Chicago:20240721T110000
DTEND;TZID=America/Chicago:20240721T110000
DTSTAMP:20260424T054112
CREATED:20240722T141324Z
LAST-MODIFIED:20240722T141324Z
UID:37657-1721559600-1721559600@firstdallas.org
SUMMARY:Worship at the Kay Bailey Hutchison Convention Center
DESCRIPTION:Sunday morning\, July 21\, First Baptist Dallas gathered for worship in the main Arena at the Kay Bailey Hutchison Convention Center in downtown Dallas. We had one service at 11am CT. \nWatch Senior Pastor\, Dr. Robert Jeffress’ remarks about the four-alarm fire in the Historic Sanctuary on Friday night here. \nWATCH HERE\nWatch the full service\, including worship and the inspiring sermon from Dr. Ben Lovvorn\, here. \nWATCH HERE
URL:https://firstdallas.org/event/worship-at-the-cc/
CATEGORIES:Churchwide
END:VEVENT
END:VCALENDAR