BEGIN:VCALENDAR
VERSION:2.0
PRODID:-// - ECPv6.15.20//NONSGML v1.0//EN
CALSCALE:GREGORIAN
METHOD:PUBLISH
X-ORIGINAL-URL:https://firstdallas.org
X-WR-CALDESC:Events for 
REFRESH-INTERVAL;VALUE=DURATION:PT1H
X-Robots-Tag:noindex
X-PUBLISHED-TTL:PT1H
BEGIN:VTIMEZONE
TZID:America/Chicago
BEGIN:DAYLIGHT
TZOFFSETFROM:-0600
TZOFFSETTO:-0500
TZNAME:CDT
DTSTART:20230312T080000
END:DAYLIGHT
BEGIN:STANDARD
TZOFFSETFROM:-0500
TZOFFSETTO:-0600
TZNAME:CST
DTSTART:20231105T070000
END:STANDARD
BEGIN:DAYLIGHT
TZOFFSETFROM:-0600
TZOFFSETTO:-0500
TZNAME:CDT
DTSTART:20240310T080000
END:DAYLIGHT
BEGIN:STANDARD
TZOFFSETFROM:-0500
TZOFFSETTO:-0600
TZNAME:CST
DTSTART:20241103T070000
END:STANDARD
BEGIN:DAYLIGHT
TZOFFSETFROM:-0600
TZOFFSETTO:-0500
TZNAME:CDT
DTSTART:20250309T080000
END:DAYLIGHT
BEGIN:STANDARD
TZOFFSETFROM:-0500
TZOFFSETTO:-0600
TZNAME:CST
DTSTART:20251102T070000
END:STANDARD
END:VTIMEZONE
BEGIN:VEVENT
DTSTART;VALUE=DATE:20240720
DTEND;VALUE=DATE:20240729
DTSTAMP:20260422T093311
CREATED:20220106T213650Z
LAST-MODIFIED:20240618T182856Z
UID:8362-1721433600-1722211199@firstdallas.org
SUMMARY:Guatemala Medical & VBS Mission Trip
DESCRIPTION:Our medical team travels to small outlying locations each day to host medical clinics. We host four successive days of clinics that draw from 50-150 people with a variety of health needs\, many of them basic. The goal is to minister to everyone spiritually while we help meet their medical needs. While our medical team is handling things at the clinics\, we have a VBS for the children and families that attend the four days of medical clinics. We have developed a program that helps share the gospel which we use to minister to everyone who arrives for the clinics. We see 50–200 children at a single medical clinic. \nFor more information\, please contact the Missions Department at missions@firstdallas.org  or 214.969.2410.
URL:https://firstdallas.org/event/guatemala-medical-vbs-mission-trip/
LOCATION:Guatemala
CATEGORIES:Churchwide
ATTACH;FMTTYPE=image/jpeg:https://firstdallas.org/wp-content/uploads/2022/01/16x9_GuatemalaMEDVBS-Approved-scaled.jpg
END:VEVENT
END:VCALENDAR