BEGIN:VCALENDAR
VERSION:2.0
PRODID:-// - ECPv6.15.20//NONSGML v1.0//EN
CALSCALE:GREGORIAN
METHOD:PUBLISH
X-ORIGINAL-URL:https://firstdallas.org
X-WR-CALDESC:Events for 
REFRESH-INTERVAL;VALUE=DURATION:PT1H
X-Robots-Tag:noindex
X-PUBLISHED-TTL:PT1H
BEGIN:VTIMEZONE
TZID:America/Chicago
BEGIN:DAYLIGHT
TZOFFSETFROM:-0600
TZOFFSETTO:-0500
TZNAME:CDT
DTSTART:20230312T080000
END:DAYLIGHT
BEGIN:STANDARD
TZOFFSETFROM:-0500
TZOFFSETTO:-0600
TZNAME:CST
DTSTART:20231105T070000
END:STANDARD
BEGIN:DAYLIGHT
TZOFFSETFROM:-0600
TZOFFSETTO:-0500
TZNAME:CDT
DTSTART:20240310T080000
END:DAYLIGHT
BEGIN:STANDARD
TZOFFSETFROM:-0500
TZOFFSETTO:-0600
TZNAME:CST
DTSTART:20241103T070000
END:STANDARD
BEGIN:DAYLIGHT
TZOFFSETFROM:-0600
TZOFFSETTO:-0500
TZNAME:CDT
DTSTART:20250309T080000
END:DAYLIGHT
BEGIN:STANDARD
TZOFFSETFROM:-0500
TZOFFSETTO:-0600
TZNAME:CST
DTSTART:20251102T070000
END:STANDARD
END:VTIMEZONE
BEGIN:VEVENT
DTSTART;TZID=America/Chicago:20241213T174500
DTEND;TZID=America/Chicago:20241213T190000
DTSTAMP:20260423T062726
CREATED:20241111T171206Z
LAST-MODIFIED:20241111T171448Z
UID:41473-1734111900-1734116400@firstdallas.org
SUMMARY:Special Friends Christmas Spectacular
DESCRIPTION:Celebrate the holiday season at the Special Needs Spectacular Christmas Party\, hosted by the Special Friends Ministry. Join us on Friday\, December 13\, for an evening filled with joy\, fellowship\, and festive entertainment. Dinner will be served at 5:45pm\, followed by attending the Dallas Christmas Spectacular at 7pm. The event will take place in the Wicker Gym on the 4th floor of the Horner Family Center. Dress in your favorite casual Christmas attire and come ready to enjoy a night of holiday cheer in a warm and welcoming atmosphere. \nREGISTER HERE\n 
URL:https://firstdallas.org/event/special-friends-christmas-spectacular/
LOCATION:Wicker Gym
CATEGORIES:Special Friends
ATTACH;FMTTYPE=image/jpeg:https://firstdallas.org/wp-content/uploads/2024/11/FD_SF_ChristmasSpectacular-01-1.jpg
END:VEVENT
END:VCALENDAR