BEGIN:VCALENDAR
VERSION:2.0
PRODID:-// - ECPv6.15.20//NONSGML v1.0//EN
CALSCALE:GREGORIAN
METHOD:PUBLISH
X-ORIGINAL-URL:https://firstdallas.org
X-WR-CALDESC:Events for 
REFRESH-INTERVAL;VALUE=DURATION:PT1H
X-Robots-Tag:noindex
X-PUBLISHED-TTL:PT1H
BEGIN:VTIMEZONE
TZID:America/Chicago
BEGIN:DAYLIGHT
TZOFFSETFROM:-0600
TZOFFSETTO:-0500
TZNAME:CDT
DTSTART:20240310T080000
END:DAYLIGHT
BEGIN:STANDARD
TZOFFSETFROM:-0500
TZOFFSETTO:-0600
TZNAME:CST
DTSTART:20241103T070000
END:STANDARD
BEGIN:DAYLIGHT
TZOFFSETFROM:-0600
TZOFFSETTO:-0500
TZNAME:CDT
DTSTART:20250309T080000
END:DAYLIGHT
BEGIN:STANDARD
TZOFFSETFROM:-0500
TZOFFSETTO:-0600
TZNAME:CST
DTSTART:20251102T070000
END:STANDARD
BEGIN:DAYLIGHT
TZOFFSETFROM:-0600
TZOFFSETTO:-0500
TZNAME:CDT
DTSTART:20260308T080000
END:DAYLIGHT
BEGIN:STANDARD
TZOFFSETFROM:-0500
TZOFFSETTO:-0600
TZNAME:CST
DTSTART:20261101T070000
END:STANDARD
END:VTIMEZONE
BEGIN:VEVENT
DTSTART;TZID=America/Chicago:20250701T190000
DTEND;TZID=America/Chicago:20250701T210000
DTSTAMP:20260421T112718
CREATED:20250422T204840Z
LAST-MODIFIED:20250715T200632Z
UID:47169-1751396400-1751403600@firstdallas.org
SUMMARY:Young Marrieds July Family Fundays
DESCRIPTION:Join the Young Marrieds Ministry for a July full of Family Fun! \nJuly Family Fundays: \n \nTexas Rangers Game – Tuesday\, July 1st \nTexas Rangers vs Baltimore Orioles – 7pm \n· Coca-Cola Family Fun Tuesday discount for tickets \n· Use code “Coke50” and search for seats in sections 206 & 207 \nPURCHASE HERE\n  \n \nAnother Round Putt-Putt – Monday\, July 7th \n\nMeet us at Another Round Putt-Putt at 6pm\n$18 free play\n660 Fort Worth Ave Dallas\, TX 75208\n\n \nMain Event – Monday\, July 21st – 6pm \n\nMonday Night Madness! – Most people wind down on Monday. You wind up. All you can play activities or games are just $12.99 per person after 4pm on Mondays! You can arrive as early as you want\, we will try to gather as a group around 6pm.\nLocation: Plano\n3941 Central Expressway\, Plano\, TX 75023\n\n \nMovie Night @ First Dallas – Thursday\, July 31st – 6pm \n\nConcession Snacks available for purchase (candy\, nachos\, popcorn)\nBring your favorite chair or blanket and come watch a Family Friendly Movie in Ralph Baker Theater\nLocation: Ralph Baker Theater\nMovie Title: Prince of Egypt
URL:https://firstdallas.org/event/young-marrieds-july-family-fundays/2025-07-01/
ATTACH;FMTTYPE=image/jpeg:https://firstdallas.org/wp-content/uploads/2025/04/July-Family-Fundays_16x9-1-scaled.jpg
END:VEVENT
END:VCALENDAR