BEGIN:VCALENDAR
VERSION:2.0
PRODID:-// - ECPv6.15.20//NONSGML v1.0//EN
CALSCALE:GREGORIAN
METHOD:PUBLISH
X-ORIGINAL-URL:https://firstdallas.org
X-WR-CALDESC:Events for 
REFRESH-INTERVAL;VALUE=DURATION:PT1H
X-Robots-Tag:noindex
X-PUBLISHED-TTL:PT1H
BEGIN:VTIMEZONE
TZID:America/Chicago
BEGIN:DAYLIGHT
TZOFFSETFROM:-0600
TZOFFSETTO:-0500
TZNAME:CDT
DTSTART:20250309T080000
END:DAYLIGHT
BEGIN:STANDARD
TZOFFSETFROM:-0500
TZOFFSETTO:-0600
TZNAME:CST
DTSTART:20251102T070000
END:STANDARD
BEGIN:DAYLIGHT
TZOFFSETFROM:-0600
TZOFFSETTO:-0500
TZNAME:CDT
DTSTART:20260308T080000
END:DAYLIGHT
BEGIN:STANDARD
TZOFFSETFROM:-0500
TZOFFSETTO:-0600
TZNAME:CST
DTSTART:20261101T070000
END:STANDARD
BEGIN:DAYLIGHT
TZOFFSETFROM:-0600
TZOFFSETTO:-0500
TZNAME:CDT
DTSTART:20270314T080000
END:DAYLIGHT
BEGIN:STANDARD
TZOFFSETFROM:-0500
TZOFFSETTO:-0600
TZNAME:CST
DTSTART:20271107T070000
END:STANDARD
END:VTIMEZONE
BEGIN:VEVENT
DTSTART;TZID=America/Chicago:20260419T090000
DTEND;TZID=America/Chicago:20260419T090000
DTSTAMP:20260425T084159
CREATED:20220802T182104Z
LAST-MODIFIED:20220802T182104Z
UID:49454-1776589200-1776589200@firstdallas.org
SUMMARY:Pastor's Prayer Partners | Women
DESCRIPTION:Women are invited to join us in prayer for our pastor and church as part of Pastor’s Prayer Partners–Women. We meet each Sunday at 11am and the first Sunday of every month at 9am in Worship Center Level 1 – Missions Room 107B. \nIf you are interested or looking for more information\, please contact womensmin@firstdallas.org. \n\n\n                \n                        \n                            Pastor Prayer Partners | Women\n                             \n                        \n                        FIRST NAME(Required)LAST NAME(Required)PHONEEMAIL(Required)\n                            \n                        DOES YOUR CELL ACCEPT TEXT MESSAGES?(Required)DOES YOUR CELL ACCEPT TEXT MESSAGES? \n								\n								YES\n							\n								\n								NO\n							WORSHIP SERVICE YOU ATTEND:(Required)WORSHIP SERVICE YOU ATTEND:\n								\n								CHOIR & ORCHESTRA LED WORSHIP 9:15AM\n							\n								\n								CHOIR & ORCHESTRA LED WORSHIP 11AM\n							\n								\n								DAY ONE BAND-LED WORSHIP 11AM\n							PREFERRED SUNDAY TO SERVE(Required)PREFERRED SUNDAY TO SERVE\n								\n								1ST\n							\n								\n								2ND\n							\n								\n								3RD\n							\n								\n								4TH\n							ARE YOU A MEMBER OF THE CHOIR & ORCHESTRA?(Required)ARE YOU A MEMBER OF THE CHOIR & ORCHESTRA?\n								\n								YES\n							\n								\n								NO
URL:https://firstdallas.org/event/pastors-prayer-partners-women/2026-04-19/
CATEGORIES:Women
ATTACH;FMTTYPE=image/jpeg:https://firstdallas.org/wp-content/uploads/2022/08/PPP_Women_h.jpg
END:VEVENT
BEGIN:VEVENT
DTSTART;TZID=America/Chicago:20260419T091500
DTEND;TZID=America/Chicago:20260419T110000
DTSTAMP:20260425T084159
CREATED:20260318T164720Z
LAST-MODIFIED:20260319T192838Z
UID:53090-1776590100-1776596400@firstdallas.org
SUMMARY:New Sermon Series: Retracing Your Spiritual Roots
DESCRIPTION:Discover where your story begins with our brand-new sermon series by Dr. Robert Jeffress\, Retracing Your Spiritual Roots. Beginning Sunday\, April 19\, we’ll journey through Genesis 1–11 and explore the foundational truths that shape our faith. Join us at 9:15 or 11AM in the Worship Center as we dig deeper into God’s Word and grow together.
URL:https://firstdallas.org/event/new-sermon-series-retracing-your-spiritual-roots/
ATTACH;FMTTYPE=image/jpeg:https://firstdallas.org/wp-content/uploads/2026/03/New-Sermon_Retracing-Your-Spiritual-Roots_Begins_H.jpg
END:VEVENT
BEGIN:VEVENT
DTSTART;TZID=America/Chicago:20260419T110000
DTEND;TZID=America/Chicago:20260419T110000
DTSTAMP:20260425T084159
CREATED:20220802T182104Z
LAST-MODIFIED:20250917T161342Z
UID:36557-1776596400-1776596400@firstdallas.org
SUMMARY:Pastor's Prayer Partners | Women
DESCRIPTION:Women are invited to join us in prayer for our pastor and church as part of Pastor’s Prayer Partners–Women. We meet each Sunday at 11am and the first Sunday of every month at 9am in Worship Center Level 1 – Missions Room 107B. \nIf you are interested or looking for more information\, please contact womensmin@firstdallas.org. \n\n                \n                        \n                            Pastor Prayer Partners | Women\n                             \n                        \n                        FIRST NAME(Required)LAST NAME(Required)PHONEEMAIL(Required)\n                            \n                        DOES YOUR CELL ACCEPT TEXT MESSAGES?(Required)DOES YOUR CELL ACCEPT TEXT MESSAGES? \n								\n								YES\n							\n								\n								NO\n							WORSHIP SERVICE YOU ATTEND:(Required)WORSHIP SERVICE YOU ATTEND:\n								\n								CHOIR & ORCHESTRA LED WORSHIP 9:15AM\n							\n								\n								CHOIR & ORCHESTRA LED WORSHIP 11AM\n							\n								\n								DAY ONE BAND-LED WORSHIP 11AM\n							PREFERRED SUNDAY TO SERVE(Required)PREFERRED SUNDAY TO SERVE\n								\n								1ST\n							\n								\n								2ND\n							\n								\n								3RD\n							\n								\n								4TH\n							ARE YOU A MEMBER OF THE CHOIR & ORCHESTRA?(Required)ARE YOU A MEMBER OF THE CHOIR & ORCHESTRA?\n								\n								YES\n							\n								\n								NO
URL:https://firstdallas.org/event/pastors-prayer-partners-women/2026-04-19/
CATEGORIES:Women
ATTACH;FMTTYPE=image/jpeg:https://firstdallas.org/wp-content/uploads/2022/08/PPP_Women_h.jpg
END:VEVENT
BEGIN:VEVENT
DTSTART;TZID=America/Chicago:20260419T123000
DTEND;TZID=America/Chicago:20260419T133000
DTSTAMP:20260425T084159
CREATED:20260202T202058Z
LAST-MODIFIED:20260324T195346Z
UID:51764-1776601800-1776605400@firstdallas.org
SUMMARY:Pastor's New Member Lunch
DESCRIPTION:Join us for the Pastor’s New Members Lunch on Sunday\, April 19 at 12:30 PM in the Atrium. This special lunch is designed especially for new members of First Baptist Dallas and offers a wonderful opportunity to connect\, enjoy a meal\, and spend time with Dr. Jeffress. \nREGISTER HERE
URL:https://firstdallas.org/event/pastors-new-member-lunch-4/
ATTACH;FMTTYPE=image/jpeg:https://firstdallas.org/wp-content/uploads/2026/02/PastorsNewMemberLunch0419_h.jpg
END:VEVENT
BEGIN:VEVENT
DTSTART;TZID=America/Chicago:20260419T180000
DTEND;TZID=America/Chicago:20260419T180000
DTSTAMP:20260425T084159
CREATED:20260303T223345Z
LAST-MODIFIED:20260311T205517Z
UID:52719-1776621600-1776621600@firstdallas.org
SUMMARY:Light Awards
DESCRIPTION:If you serve in any capacity\, you are invited to a red-carpet evening honoring our faithful volunteers\, on Sunday\, April 19 at 6pm in the Worship Center. \nJoin us for photo opportunities\, live music\, and special commemorative gifts as we celebrate your lasting impact. \nDress Code: Black-tie optional (tuxes and evening gowns)… or Sunday best (suits and dresses)… or whatever you feel comfortable in. The only real requirement is that you show up so we can celebrate and say thank you! \nREGISTER FOR PLAY AND LEARN HERE\n 
URL:https://firstdallas.org/event/light-awards/
ATTACH;FMTTYPE=image/jpeg:https://firstdallas.org/wp-content/uploads/2026/03/Light-Awards-2026_Generic_H_02.jpg
END:VEVENT
END:VCALENDAR