BEGIN:VCALENDAR
VERSION:2.0
PRODID:-// - ECPv6.15.20//NONSGML v1.0//EN
CALSCALE:GREGORIAN
METHOD:PUBLISH
X-ORIGINAL-URL:https://firstdallas.org
X-WR-CALDESC:Events for 
REFRESH-INTERVAL;VALUE=DURATION:PT1H
X-Robots-Tag:noindex
X-PUBLISHED-TTL:PT1H
BEGIN:VTIMEZONE
TZID:America/Chicago
BEGIN:DAYLIGHT
TZOFFSETFROM:-0600
TZOFFSETTO:-0500
TZNAME:CDT
DTSTART:20240310T080000
END:DAYLIGHT
BEGIN:STANDARD
TZOFFSETFROM:-0500
TZOFFSETTO:-0600
TZNAME:CST
DTSTART:20241103T070000
END:STANDARD
BEGIN:DAYLIGHT
TZOFFSETFROM:-0600
TZOFFSETTO:-0500
TZNAME:CDT
DTSTART:20250309T080000
END:DAYLIGHT
BEGIN:STANDARD
TZOFFSETFROM:-0500
TZOFFSETTO:-0600
TZNAME:CST
DTSTART:20251102T070000
END:STANDARD
BEGIN:DAYLIGHT
TZOFFSETFROM:-0600
TZOFFSETTO:-0500
TZNAME:CDT
DTSTART:20260308T080000
END:DAYLIGHT
BEGIN:STANDARD
TZOFFSETFROM:-0500
TZOFFSETTO:-0600
TZNAME:CST
DTSTART:20261101T070000
END:STANDARD
END:VTIMEZONE
BEGIN:VEVENT
DTSTART;VALUE=DATE:20250603
DTEND;VALUE=DATE:20250608
DTSTAMP:20260425T103333
CREATED:20250304T211652Z
LAST-MODIFIED:20250306T223741Z
UID:46051-1748908800-1749340799@firstdallas.org
SUMMARY:Ambassadors Soccer Camp
DESCRIPTION:Join us for an exciting week of soccer at the Ambassadors Soccer Camp! Designed for boys and girls ages 4-12\, this camp provides a fun and engaging environment where players of all skill levels can develop their soccer techniques while growing in faith. Led by experienced coaches\, campers will participate in skill-building drills\, interactive games\, and team activities\, all within a Christ-centered atmosphere. Every participant will receive an official camp t-shirt. \nThe camp will take place June 3-7 from 9am to 12pm at the First Baptist Academy football field. \nEarly bird registration is available\, with fees starting at $125 if registered by March 16\, $150 between March 15 and April 30\, and $195 beginning May 1. \nDon’t miss this incredible opportunity to sharpen your soccer skills and build lasting friendships. \nREGISTER HERE
URL:https://firstdallas.org/event/ambassadors-soccer-camp/
CATEGORIES:Sports,Children
ATTACH;FMTTYPE=image/jpeg:https://firstdallas.org/wp-content/uploads/2025/03/Sports_AmbassadorSoccerCamp2025_h-1.jpg
END:VEVENT
END:VCALENDAR