BEGIN:VCALENDAR
VERSION:2.0
PRODID:-// - ECPv6.15.20//NONSGML v1.0//EN
CALSCALE:GREGORIAN
METHOD:PUBLISH
X-ORIGINAL-URL:https://firstdallas.org
X-WR-CALDESC:Events for 
REFRESH-INTERVAL;VALUE=DURATION:PT1H
X-Robots-Tag:noindex
X-PUBLISHED-TTL:PT1H
BEGIN:VTIMEZONE
TZID:America/Chicago
BEGIN:DAYLIGHT
TZOFFSETFROM:-0600
TZOFFSETTO:-0500
TZNAME:CDT
DTSTART:20250309T080000
END:DAYLIGHT
BEGIN:STANDARD
TZOFFSETFROM:-0500
TZOFFSETTO:-0600
TZNAME:CST
DTSTART:20251102T070000
END:STANDARD
BEGIN:DAYLIGHT
TZOFFSETFROM:-0600
TZOFFSETTO:-0500
TZNAME:CDT
DTSTART:20260308T080000
END:DAYLIGHT
BEGIN:STANDARD
TZOFFSETFROM:-0500
TZOFFSETTO:-0600
TZNAME:CST
DTSTART:20261101T070000
END:STANDARD
BEGIN:DAYLIGHT
TZOFFSETFROM:-0600
TZOFFSETTO:-0500
TZNAME:CDT
DTSTART:20270314T080000
END:DAYLIGHT
BEGIN:STANDARD
TZOFFSETFROM:-0500
TZOFFSETTO:-0600
TZNAME:CST
DTSTART:20271107T070000
END:STANDARD
END:VTIMEZONE
BEGIN:VEVENT
DTSTART;TZID=America/Chicago:20260513T183000
DTEND;TZID=America/Chicago:20260513T200000
DTSTAMP:20260423T050944
CREATED:20250729T161445Z
LAST-MODIFIED:20260309T145915Z
UID:50778-1778697000-1778702400@firstdallas.org
SUMMARY:AWANA
DESCRIPTION:Children will make lifelong memories and grow in their relationship with the Lord at AWANA! AWANA is an organization that has been leading children and teenagers to Christ for over 70 years. It is an acronym for “Approved Workmen Are Not Ashamed\,” based on 2 Timothy 2:15\, “Be diligent to present yourself approved to God as a workman who does not need to be ashamed\, accurately handling the word of truth.” AWANA provides a solid foundation that our children need to grow and become adults who know\, love\, and serve the Lord. All classes are designed to minister to your child’s developmental and spiritual needs. \nAWANA will meet in the fall on Wednesdays at 6:30pm in the Horner Family Center and is for ages two through sixth grade. \n\n\n\nREGISTER HERE
URL:https://firstdallas.org/event/awana-3/2026-05-13/
LOCATION:Horner Family Center\, 1707 San Jacinto Street\, Dallas\, TX\, 75201\, United States
CATEGORIES:Children
ATTACH;FMTTYPE=image/jpeg:https://firstdallas.org/wp-content/uploads/2025/07/Awana2025-2026_h.jpg
END:VEVENT
BEGIN:VEVENT
DTSTART;TZID=America/Chicago:20260520T100000
DTEND;TZID=America/Chicago:20260520T110000
DTSTAMP:20260423T050944
CREATED:20250213T195700Z
LAST-MODIFIED:20260416T210108Z
UID:45778-1779271200-1779274800@firstdallas.org
SUMMARY:Mommy & Me - Down On The Farm
DESCRIPTION:Join us for Mommy & Me: Sunshine & Seashells on Wednesday\, May 20 at 10am at the HFC 2 Playground! \n\nREGISTER HERE
URL:https://firstdallas.org/event/mommyandme/
LOCATION:HFC 2 Playground
CATEGORIES:Children
ATTACH;FMTTYPE=image/jpeg:https://firstdallas.org/wp-content/uploads/2025/02/Childrens_Mommy-and-Me_MAY_H-1.jpg
END:VEVENT
BEGIN:VEVENT
DTSTART;VALUE=DATE:20260602
DTEND;VALUE=DATE:20260606
DTSTAMP:20260423T050944
CREATED:20260303T210926Z
LAST-MODIFIED:20260323T145619Z
UID:52713-1780358400-1780703999@firstdallas.org
SUMMARY:Kids Camp 2026
DESCRIPTION:Kids Camp 2026 is headed back to Mt. Lebanon in Cedar Hill\, TX\, June 2–5. Don’t miss an unforgettable week of fun\, friends\, and spiritual growth! \nTheme Nights:\n\nStars & Stripes – Tuesday\nWacky Wednesday – Wednesday\nCamo Night – Thursday\nREGISTER HERE
URL:https://firstdallas.org/event/kids-camp-2026/
LOCATION:TX
CATEGORIES:Children
ATTACH;FMTTYPE=image/jpeg:https://firstdallas.org/wp-content/uploads/2026/03/Kids-Cove_Kids-Camp-2026_H.jpg
END:VEVENT
BEGIN:VEVENT
DTSTART;TZID=America/Chicago:20260622T090000
DTEND;TZID=America/Chicago:20260625T140000
DTSTAMP:20260423T050944
CREATED:20230314T153131Z
LAST-MODIFIED:20260414T162511Z
UID:24207-1782118800-1782396000@firstdallas.org
SUMMARY:Kids Worship Music Week
DESCRIPTION:Each day your child will learn more about Jesus and develop a heart of worship as they enjoy rotations in Praise Songs\, Instrumental Instruction\, Art\, and Movement. This year\, we are celebrating that we are ‘Made to Praise’! \n  \nREGISTER HERE\n  \n\n\nPossible Breakout choices include:\nSinging/Choreography –\nAll kids will learn music and choreography for our Praise Presentation! \nDance – Children will be introduced to ballet and contemporary dance choreography and will be featured in a song during our Praise Presentation. \nGym/DrumFit – Come to the gym for games and DrumFit!DrumFit is a fun physical activity that incorporates cardio and rhythmic drumming using drumsticks and a yoga ball. \nOrff – This breakout is all about composing and creating music using the Orff Schulwerk method. Kids will learn to play xylophones\, metallophones\, and glockenspiels and will be featured in a song during our Praise Presentation. \nWorld Drum – World drumming teaches children the fundamentals of rhythm and drumming using tubano and djembe drums. They will be featured in a song during our Praise Presentation. \nUkulele – In this breakout\, kids will learn basic chords and strumming techniques and will be featured in a song during our Praise Presentation. \nRecorder – This engaging breakout teaches kids simple melodies and techniques to play the recorder\, fostering a love for music and worship through hands-on fun. They will also be featured in a song during our Praise Presentation. \nInstrument Sound Stories – In this musical sound story class\, kids will explore storytelling through sound\, using instruments\, voices\, and everyday objects to bring stories to life. It will spark creativity and listening skills in a fun\, hands-on environment. \nArt –Kids will create an art project that reinforces our theme for the week! Projects will be displayed at our Praise Presentation. \nInstruments/Movement/Games – Children will move and play using parachutes and scarves! They will also use boomwhackers and Prodigies bells to create music together. \nDrama/Theatre Games – Join us for an interactive class that introduces children to the world of theater through fun activities and games. Children will develop their acting skills\, boost their confidence\, and learn how to prepare for an audition. \nCost Information:\n\n1st Child: $130 \nScholarship Applications Available\nStaff and Volunteer Discounts Available \nContact fmartin@firstdallas.org for additional information.
URL:https://firstdallas.org/event/kids-worship-music-week/
LOCATION:TX
CATEGORIES:Children
ATTACH;FMTTYPE=image/jpeg:https://firstdallas.org/wp-content/uploads/2026/03/KidsWorship2026_MusicWeek_h-scaled.jpg
END:VEVENT
END:VCALENDAR