BEGIN:VCALENDAR
VERSION:2.0
PRODID:-// - ECPv6.15.20//NONSGML v1.0//EN
CALSCALE:GREGORIAN
METHOD:PUBLISH
X-ORIGINAL-URL:https://firstdallas.org
X-WR-CALDESC:Events for 
REFRESH-INTERVAL;VALUE=DURATION:PT1H
X-Robots-Tag:noindex
X-PUBLISHED-TTL:PT1H
BEGIN:VTIMEZONE
TZID:America/Chicago
BEGIN:DAYLIGHT
TZOFFSETFROM:-0600
TZOFFSETTO:-0500
TZNAME:CDT
DTSTART:20230312T080000
END:DAYLIGHT
BEGIN:STANDARD
TZOFFSETFROM:-0500
TZOFFSETTO:-0600
TZNAME:CST
DTSTART:20231105T070000
END:STANDARD
BEGIN:DAYLIGHT
TZOFFSETFROM:-0600
TZOFFSETTO:-0500
TZNAME:CDT
DTSTART:20240310T080000
END:DAYLIGHT
BEGIN:STANDARD
TZOFFSETFROM:-0500
TZOFFSETTO:-0600
TZNAME:CST
DTSTART:20241103T070000
END:STANDARD
BEGIN:DAYLIGHT
TZOFFSETFROM:-0600
TZOFFSETTO:-0500
TZNAME:CDT
DTSTART:20250309T080000
END:DAYLIGHT
BEGIN:STANDARD
TZOFFSETFROM:-0500
TZOFFSETTO:-0600
TZNAME:CST
DTSTART:20251102T070000
END:STANDARD
END:VTIMEZONE
BEGIN:VEVENT
DTSTART;TZID=America/Chicago:20241201T091500
DTEND;TZID=America/Chicago:20241201T091500
DTSTAMP:20260422T045621
CREATED:20241107T185808Z
LAST-MODIFIED:20241107T185808Z
UID:41458-1733044500-1733044500@firstdallas.org
SUMMARY:Christmas On The 7th Floor
DESCRIPTION:Celebrate the season with us every Sunday in December on the 7th floor at 9:15am! Each week will feature a different Christmas-themed fellowship for Young Marrieds and College Students. Enjoy hot chocolate on December 1\, show off your best (or worst!) holiday attire for our ugly sweater contest with apple cider on December 15\, dive into a fun cereal bar on December 8\, and finish the month with Krispy Kreme donuts on December 22. We can’t wait to spread Christmas cheer with you all month long!
URL:https://firstdallas.org/event/christmas-on-the-7th-floor/2024-12-01/
LOCATION:HFC 7th floor lobby
CATEGORIES:College,Married Adults
ATTACH;FMTTYPE=image/png:https://firstdallas.org/wp-content/uploads/2024/11/Christmas-on-7th-Floor.png
END:VEVENT
BEGIN:VEVENT
DTSTART;TZID=America/Chicago:20241201T123000
DTEND;TZID=America/Chicago:20241201T123000
DTSTAMP:20260422T045621
CREATED:20240607T183218Z
LAST-MODIFIED:20241104T222734Z
UID:36442-1733056200-1733056200@firstdallas.org
SUMMARY:Adult 2 | Leadership Lunch
DESCRIPTION:Adult 2 Sunday school leadership teams (and spouses) are invited to training lunches! Some months are large group\, including all existing and potential leadership team members in all Adult 2 classes. This month is small group\, which includes only teachers\, directors\, and their spouses. Each monthly lunch is intended to be educational and inspirational for the leaders as we seek to motivate them toward higher goals. \nOur next meeting will be on Sunday\, December 1 at 12:30pm in Lovvorn Hall. RSVP to agarcia@firstdallas.org. \nContact Andrea Garcia at agarcia@firstdallas.org with any questions.
URL:https://firstdallas.org/event/adult-2-leadership-lunch/
LOCATION:Lovvorn Hall
CATEGORIES:Married Adults
ATTACH;FMTTYPE=image/jpeg:https://firstdallas.org/wp-content/uploads/2024/06/Adult-2_Leader-Meeting_DEC_H-1.jpg
END:VEVENT
BEGIN:VEVENT
DTSTART;TZID=America/Chicago:20241202T183000
DTEND;TZID=America/Chicago:20241202T183000
DTSTAMP:20260422T045621
CREATED:20240918T161838Z
LAST-MODIFIED:20260106T211439Z
UID:40535-1733164200-1733164200@firstdallas.org
SUMMARY:Forney Community Group
DESCRIPTION:  \nAll in the Forney area are invited to join a small group meeting on the 1st Monday of every month! Fill out the form below if you want to join and learn more. \nThis Community Group is designed to foster a Christian community through fun\, food\, and fellowship. Community Groups are not intended to replace Sunday School but serve as a supplement to create environments both on and off campus where Christian community can gather. \n\n\n                \n                        \n                            Community Groups | Forney\n                             \n                        \n                        First Name(Required)Last Name(Required)Email(Required)\n                            \n                        PhoneAgeCOMMENTS OR QUESTIONS
URL:https://firstdallas.org/event/forney-community-group/2024-12-02/
CATEGORIES:Single Adults,Married Adults,Senior Adults,Men,Women,Silent Friends
ATTACH;FMTTYPE=image/jpeg:https://firstdallas.org/wp-content/uploads/2024/09/CommGroups2025_Forney_h.jpg
END:VEVENT
BEGIN:VEVENT
DTSTART;TZID=America/Chicago:20241208T091500
DTEND;TZID=America/Chicago:20241208T091500
DTSTAMP:20260422T045621
CREATED:20241107T185808Z
LAST-MODIFIED:20241107T185808Z
UID:41460-1733649300-1733649300@firstdallas.org
SUMMARY:Christmas On The 7th Floor
DESCRIPTION:Celebrate the season with us every Sunday in December on the 7th floor at 9:15am! Each week will feature a different Christmas-themed fellowship for Young Marrieds and College Students. Enjoy hot chocolate on December 1\, show off your best (or worst!) holiday attire for our ugly sweater contest with apple cider on December 15\, dive into a fun cereal bar on December 8\, and finish the month with Krispy Kreme donuts on December 22. We can’t wait to spread Christmas cheer with you all month long!
URL:https://firstdallas.org/event/christmas-on-the-7th-floor/2024-12-08/
LOCATION:HFC 7th floor lobby
CATEGORIES:College,Married Adults
ATTACH;FMTTYPE=image/png:https://firstdallas.org/wp-content/uploads/2024/11/Christmas-on-7th-Floor.png
END:VEVENT
BEGIN:VEVENT
DTSTART;TZID=America/Chicago:20241209T180000
DTEND;TZID=America/Chicago:20241209T180000
DTSTAMP:20260422T045621
CREATED:20240110T210021Z
LAST-MODIFIED:20250910T150708Z
UID:49252-1733767200-1733767200@firstdallas.org
SUMMARY:Grapevine Community Group
DESCRIPTION:All in the Grapevine area are invited to join Tom and Stephanie Pulley for a small group that meets on the second Monday of each month at 6:30pm. This Community Group is designed to foster a Christian community through fun\, food\, and fellowship. Community Groups are not intended to replace Sunday School but serve as a supplement to create environments both on and off campus where Christian community can gather. \n\n                \n                        \n                            Community Groups | Grapevine\n                             \n                        \n                        First Name(Required)Last Name(Required)Email(Required)\n                            \n                        PhoneAgeCOMMENTS OR QUESTIONS
URL:https://firstdallas.org/event/grapevine-community-group/2024-12-09/
CATEGORIES:Single Adults,Married Adults,Senior Adults,Men,Women
ATTACH;FMTTYPE=image/jpeg:https://firstdallas.org/wp-content/uploads/2024/01/CommGroups2025_Grapevine_h-1.jpg
END:VEVENT
BEGIN:VEVENT
DTSTART;TZID=America/Chicago:20241211T183000
DTEND;TZID=America/Chicago:20241211T200000
DTSTAMP:20260422T045621
CREATED:20210915T185449Z
LAST-MODIFIED:20240815T183358Z
UID:30978-1733941800-1733947200@firstdallas.org
SUMMARY:Christian Survivors of Suicide Loss
DESCRIPTION:This is an ongoing\, year-round support group for those who have been affected by suicide\, including family members\, survivors themselves\, and those struggling with thoughts of suicide. Losing a loved one to suicide can be life-altering. It is helpful to understand what you or your loved ones are experiencing. Learn about common emotions and challenges\, the grief journey\, and what can help. \nMeets every 2nd and 4th Wednesday of every month from 6:30-8pm Worship Center 2nd floor\, Family Room. \nUpcoming meetings:\nWednesday\, 8/28 from 6:30–8pm\nWednesday\, 9/11 from 6:30–8pm\nWednesday\, 9/25 from 6:30–8pm\nWednesday\, 10/9 from 6:30–8pm\nWednesday\, 10/23 from 6:30–8pm\nWednesday\, 11/13 from 6:30–8pm\nWednesday\, 12/11 from 6:30–8pm\nWednesday\, 1/22/25 from 6:30–8pm\nWednesday\, 2/12/25 from 6:30–8pm\nWednesday\, 2/26/25 from 6:30–8pm\nWednesday\, 3/12/25 from 6:30–8pm\nWednesday\, 3/26/25 from 6:30–8pm \nREGISTER HERE\n  \nFor more information contact Pathways Christian Counseling | 214.969.2456 | counseling@firstdallas.org
URL:https://firstdallas.org/event/christian-survivors-of-suicide-loss/2024-12-11/
LOCATION:Worship Center\, 2nd floor\, Family Room
CATEGORIES:Churchwide,College,Next-Gen,Single Adults,Married Adults,Senior Adults,Men,Women,Single Moms
ATTACH;FMTTYPE=image/jpeg:https://firstdallas.org/wp-content/uploads/2021/09/ChristianSurvivors_2nd4thWed_h-1.jpg
END:VEVENT
BEGIN:VEVENT
DTSTART;TZID=America/Chicago:20241215T091500
DTEND;TZID=America/Chicago:20241215T091500
DTSTAMP:20260422T045621
CREATED:20241107T185808Z
LAST-MODIFIED:20241107T185808Z
UID:41461-1734254100-1734254100@firstdallas.org
SUMMARY:Christmas On The 7th Floor
DESCRIPTION:Celebrate the season with us every Sunday in December on the 7th floor at 9:15am! Each week will feature a different Christmas-themed fellowship for Young Marrieds and College Students. Enjoy hot chocolate on December 1\, show off your best (or worst!) holiday attire for our ugly sweater contest with apple cider on December 15\, dive into a fun cereal bar on December 8\, and finish the month with Krispy Kreme donuts on December 22. We can’t wait to spread Christmas cheer with you all month long!
URL:https://firstdallas.org/event/christmas-on-the-7th-floor/2024-12-15/
LOCATION:HFC 7th floor lobby
CATEGORIES:College,Married Adults
ATTACH;FMTTYPE=image/png:https://firstdallas.org/wp-content/uploads/2024/11/Christmas-on-7th-Floor.png
END:VEVENT
BEGIN:VEVENT
DTSTART;TZID=America/Chicago:20241222T091500
DTEND;TZID=America/Chicago:20241222T091500
DTSTAMP:20260422T045621
CREATED:20241107T185808Z
LAST-MODIFIED:20241107T185808Z
UID:41462-1734858900-1734858900@firstdallas.org
SUMMARY:Christmas On The 7th Floor
DESCRIPTION:Celebrate the season with us every Sunday in December on the 7th floor at 9:15am! Each week will feature a different Christmas-themed fellowship for Young Marrieds and College Students. Enjoy hot chocolate on December 1\, show off your best (or worst!) holiday attire for our ugly sweater contest with apple cider on December 15\, dive into a fun cereal bar on December 8\, and finish the month with Krispy Kreme donuts on December 22. We can’t wait to spread Christmas cheer with you all month long!
URL:https://firstdallas.org/event/christmas-on-the-7th-floor/2024-12-22/
LOCATION:HFC 7th floor lobby
CATEGORIES:College,Married Adults
ATTACH;FMTTYPE=image/png:https://firstdallas.org/wp-content/uploads/2024/11/Christmas-on-7th-Floor.png
END:VEVENT
END:VCALENDAR