BEGIN:VCALENDAR
VERSION:2.0
PRODID:-// - ECPv6.15.20//NONSGML v1.0//EN
CALSCALE:GREGORIAN
METHOD:PUBLISH
X-ORIGINAL-URL:https://firstdallas.org
X-WR-CALDESC:Events for 
REFRESH-INTERVAL;VALUE=DURATION:PT1H
X-Robots-Tag:noindex
X-PUBLISHED-TTL:PT1H
BEGIN:VTIMEZONE
TZID:America/Chicago
BEGIN:DAYLIGHT
TZOFFSETFROM:-0600
TZOFFSETTO:-0500
TZNAME:CDT
DTSTART:20230312T080000
END:DAYLIGHT
BEGIN:STANDARD
TZOFFSETFROM:-0500
TZOFFSETTO:-0600
TZNAME:CST
DTSTART:20231105T070000
END:STANDARD
BEGIN:DAYLIGHT
TZOFFSETFROM:-0600
TZOFFSETTO:-0500
TZNAME:CDT
DTSTART:20240310T080000
END:DAYLIGHT
BEGIN:STANDARD
TZOFFSETFROM:-0500
TZOFFSETTO:-0600
TZNAME:CST
DTSTART:20241103T070000
END:STANDARD
BEGIN:DAYLIGHT
TZOFFSETFROM:-0600
TZOFFSETTO:-0500
TZNAME:CDT
DTSTART:20250309T080000
END:DAYLIGHT
BEGIN:STANDARD
TZOFFSETFROM:-0500
TZOFFSETTO:-0600
TZNAME:CST
DTSTART:20251102T070000
END:STANDARD
END:VTIMEZONE
BEGIN:VEVENT
DTSTART;VALUE=DATE:20240407
DTEND;VALUE=DATE:20240408
DTSTAMP:20260425T101554
CREATED:20230127T181247Z
LAST-MODIFIED:20240301T181530Z
UID:22876-1712448000-1712534399@firstdallas.org
SUMMARY:Parenting Conference
DESCRIPTION:Whether they show it or not\, your children are your biggest fans. Learn how to make the most of the time with your family and how to cultivate a growth environment for your kids at our Parenting Conference on Sunday\, April 7. \nHear from renowned speaker and author\, Dr. Josh Straub\, co-founder and president of Famous at Home\, a company dedicated to equipping leaders\, corporations\, and families in emotional intelligence and relational connection. Join Josh on Sunday\, April 7\, at 9:15am in Truett Chapel for a special Hot Topics Session preceding the main event at 5pm that evening in CenterStage. At this session\, find out what it means to be “famous at home” and how to develop the necessary rhythms to put and keep your family centerstage. Then\, that evening at the Parenting Conference\, you’ll learn key insights about five ways to cultivate an emotional and spiritual growth environment for your kids. We want to see families grow closer together and help YOU as parents develop deep relational connections with your biggest fans\, so don’t miss this one-time event! \nREGISTER HERE\n  \n \n\nAbout the Speaker \nDr. Josh Straub takes most pride in his role as a husband and dad. On stage\, Josh is a speaker\, author\, marriage and leadership coach\, and cohost of the “Famous at Home” podcast with his wife\, Christi. He and Christi co-founded the company\, Famous at Home\, which offers coaching programs to help cultivate emotional health in marriage\, parenting\, and the places people serve. He has his Ph.D.\, CMCLC\, and is a fellow of the Townsend Institute for Leadership and Counseling. \nLearn more about Josh\, his wife Christi\, and Famous at Home at famousathome.com.
URL:https://firstdallas.org/event/parenting-conference/
LOCATION:Truett Chapel & CenterStage
CATEGORIES:Married Adults,Men,Women,Single Moms
ATTACH;FMTTYPE=image/png:https://firstdallas.org/wp-content/uploads/2023/01/Parenting-Conference-01.png
END:VEVENT
BEGIN:VEVENT
DTSTART;TZID=America/Chicago:20240424T183000
DTEND;TZID=America/Chicago:20240424T183000
DTSTAMP:20260425T101554
CREATED:20230417T215407Z
LAST-MODIFIED:20240301T183533Z
UID:26162-1713983400-1713983400@firstdallas.org
SUMMARY:Women's Bible Study | Emboldened
DESCRIPTION:First Dallas recognizes the importance of Bible study in a woman’s life\, and we know that women need fellowship\, prayer\, and encouragement to live in obedience to God’s Word\, which is why we offer Women’s Bible study! \nThis year\, we will be going through a study written by our First Dallas Women’s Staff called Emboldened: A Study of Acts\, where we will look at how the Holy Spirit empowered and emboldened the early church\, and how we can be bold to live on fire for Christ just like they did. Join us each week on Tuesdays at 10:15am or Wednesdays at 6:30pm for a powerful lesson from our Teaching Team\, interactive Bible study\, discipleship\, mentoring\, fellowship\, and fun! \nWe want to invite women of all ages from all walks of life: young or old\, married or single\, with or without children\, new to the Christian life or those who have been Christians for many years\, Bible experts and those who are just beginning to explore the Bible. When you come to WBS\, you will find a welcoming atmosphere and will learn that other women have similar joys and struggles to share; we will study a passage together and recognize there is truth to impact our lives. Because our focus is God’s Word\, you can be certain that you will grow in your faith and you will become a woman who knows the Lord in a deeper way—and that will impact all your relationships. Come and gather around the table\, get to know women who live in your area of town\, study alongside a woman with similar interests\, meet a new friend\, and expect to be loved and encouraged! \nBible Study Registration: \nREGISTER HERE\n  \nChildcare Registration: \nPLAY & LEARN (BABIES–PRE-K)\nFIRST AT HOME (K–6TH GRADE)\n  \nAWANA Registration: \nAWANA (AGE 2–6TH GRADE)
URL:https://firstdallas.org/event/womens-bible-study-emboldened/2024-04-24/
LOCATION:CenterStage
CATEGORIES:Women,Single Moms
ATTACH;FMTTYPE=image/jpeg:https://firstdallas.org/wp-content/uploads/2023/04/Womens-Bible-Study_V3_2.jpg
END:VEVENT
BEGIN:VEVENT
DTSTART;TZID=America/Chicago:20240424T183000
DTEND;TZID=America/Chicago:20240424T200000
DTSTAMP:20260425T101554
CREATED:20210915T185449Z
LAST-MODIFIED:20240815T183347Z
UID:30963-1713983400-1713988800@firstdallas.org
SUMMARY:Christian Survivors of Suicide Loss
DESCRIPTION:This is an ongoing\, year-round support group for those who have been affected by suicide\, including family members\, survivors themselves\, and those struggling with thoughts of suicide. Losing a loved one to suicide can be life-altering. It is helpful to understand what you or your loved ones are experiencing. Learn about common emotions and challenges\, the grief journey\, and what can help. \nMeets every 2nd and 4th Wednesday of every month from 6:30-8pm Worship Center 2nd floor\, Family Room. \nUpcoming meetings:\nWednesday\, 8/28 from 6:30–8pm\nWednesday\, 9/11 from 6:30–8pm\nWednesday\, 9/25 from 6:30–8pm\nWednesday\, 10/9 from 6:30–8pm\nWednesday\, 10/23 from 6:30–8pm\nWednesday\, 11/13 from 6:30–8pm\nWednesday\, 12/11 from 6:30–8pm\nWednesday\, 1/22/25 from 6:30–8pm\nWednesday\, 2/12/25 from 6:30–8pm\nWednesday\, 2/26/25 from 6:30–8pm\nWednesday\, 3/12/25 from 6:30–8pm\nWednesday\, 3/26/25 from 6:30–8pm \nREGISTER HERE\n  \nFor more information contact Pathways Christian Counseling | 214.969.2456 | counseling@firstdallas.org
URL:https://firstdallas.org/event/christian-survivors-of-suicide-loss/2024-04-24/
LOCATION:Worship Center\, 2nd floor\, Family Room
CATEGORIES:Churchwide,College,Next-Gen,Single Adults,Married Adults,Senior Adults,Men,Women,Single Moms
ATTACH;FMTTYPE=image/jpeg:https://firstdallas.org/wp-content/uploads/2021/09/ChristianSurvivors_2nd4thWed_h-1.jpg
END:VEVENT
BEGIN:VEVENT
DTSTART;TZID=America/Chicago:20240426T183000
DTEND;TZID=America/Chicago:20240426T183000
DTSTAMP:20260425T101554
CREATED:20230228T173536Z
LAST-MODIFIED:20240404T161117Z
UID:23657-1714156200-1714156200@firstdallas.org
SUMMARY:Strong & Courageous | Single Moms Game Night
DESCRIPTION:Enjoy a night of games and fellowship with other single moms! Drop off your kids for Play & Learn\, then meet us on HFC Level 7! \nREGISTER HERE \nPlay & Learn is provided for all children while parents attend worship\, Bible Studies\, PNO\, and more. This support provides intentional and consistent biblical truth through play and developmentally appropriate activities. \n\nREGISTER HERE \n\n\n\nWe invite all of our 5th & 6th graders to join Mrs. Ashley for a fun night of games\, worship\, dinner\, and Preteen Bible Study! \nREGISTER HERE \n\n\n 
URL:https://firstdallas.org/event/strong-courageous-fellowship/
LOCATION:HFC Level 7 Lobby
CATEGORIES:Single Moms
ATTACH;FMTTYPE=image/jpeg:https://firstdallas.org/wp-content/uploads/2023/02/Women_SC_GameNight042624_h-1-scaled.jpg
END:VEVENT
END:VCALENDAR