BEGIN:VCALENDAR
VERSION:2.0
PRODID:-// - ECPv6.15.20//NONSGML v1.0//EN
CALSCALE:GREGORIAN
METHOD:PUBLISH
X-ORIGINAL-URL:https://firstdallas.org
X-WR-CALDESC:Events for 
REFRESH-INTERVAL;VALUE=DURATION:PT1H
X-Robots-Tag:noindex
X-PUBLISHED-TTL:PT1H
BEGIN:VTIMEZONE
TZID:America/Chicago
BEGIN:DAYLIGHT
TZOFFSETFROM:-0600
TZOFFSETTO:-0500
TZNAME:CDT
DTSTART:20220313T080000
END:DAYLIGHT
BEGIN:STANDARD
TZOFFSETFROM:-0500
TZOFFSETTO:-0600
TZNAME:CST
DTSTART:20221106T070000
END:STANDARD
BEGIN:DAYLIGHT
TZOFFSETFROM:-0600
TZOFFSETTO:-0500
TZNAME:CDT
DTSTART:20230312T080000
END:DAYLIGHT
BEGIN:STANDARD
TZOFFSETFROM:-0500
TZOFFSETTO:-0600
TZNAME:CST
DTSTART:20231105T070000
END:STANDARD
BEGIN:DAYLIGHT
TZOFFSETFROM:-0600
TZOFFSETTO:-0500
TZNAME:CDT
DTSTART:20240310T080000
END:DAYLIGHT
BEGIN:STANDARD
TZOFFSETFROM:-0500
TZOFFSETTO:-0600
TZNAME:CST
DTSTART:20241103T070000
END:STANDARD
END:VTIMEZONE
BEGIN:VEVENT
DTSTART;TZID=America/Chicago:20230212T091500
DTEND;TZID=America/Chicago:20230212T091500
DTSTAMP:20260420T080904
CREATED:20230107T051307Z
LAST-MODIFIED:20230113T171410Z
UID:22354-1676193300-1676193300@firstdallas.org
SUMMARY:Special Friends | Griddle Iron Sunday
DESCRIPTION:Special Friends\, join us for some delicious\, hot-off-the-griddle pancakes on February 12 at 9:15am for our Griddle Iron Sunday!
URL:https://firstdallas.org/event/special-friends-griddle-iron-sunday/
LOCATION:Spurgeon Harris – Special Friends Area
CATEGORIES:Special Friends
ATTACH;FMTTYPE=image/jpeg:https://firstdallas.org/wp-content/uploads/2023/01/Griddle-Iron-Sunday_h-2-scaled.jpg
END:VEVENT
END:VCALENDAR