BEGIN:VCALENDAR
VERSION:2.0
PRODID:-// - ECPv6.15.20//NONSGML v1.0//EN
CALSCALE:GREGORIAN
METHOD:PUBLISH
X-ORIGINAL-URL:https://firstdallas.org
X-WR-CALDESC:Events for 
REFRESH-INTERVAL;VALUE=DURATION:PT1H
X-Robots-Tag:noindex
X-PUBLISHED-TTL:PT1H
BEGIN:VTIMEZONE
TZID:America/Chicago
BEGIN:DAYLIGHT
TZOFFSETFROM:-0600
TZOFFSETTO:-0500
TZNAME:CDT
DTSTART:20230312T080000
END:DAYLIGHT
BEGIN:STANDARD
TZOFFSETFROM:-0500
TZOFFSETTO:-0600
TZNAME:CST
DTSTART:20231105T070000
END:STANDARD
BEGIN:DAYLIGHT
TZOFFSETFROM:-0600
TZOFFSETTO:-0500
TZNAME:CDT
DTSTART:20240310T080000
END:DAYLIGHT
BEGIN:STANDARD
TZOFFSETFROM:-0500
TZOFFSETTO:-0600
TZNAME:CST
DTSTART:20241103T070000
END:STANDARD
BEGIN:DAYLIGHT
TZOFFSETFROM:-0600
TZOFFSETTO:-0500
TZNAME:CDT
DTSTART:20250309T080000
END:DAYLIGHT
BEGIN:STANDARD
TZOFFSETFROM:-0500
TZOFFSETTO:-0600
TZNAME:CST
DTSTART:20251102T070000
END:STANDARD
END:VTIMEZONE
BEGIN:VEVENT
DTSTART;TZID=America/Chicago:20240209T180000
DTEND;TZID=America/Chicago:20240209T180000
DTSTAMP:20260421T051555
CREATED:20220112T231422Z
LAST-MODIFIED:20240122T174129Z
UID:1342-1707501600-1707501600@firstdallas.org
SUMMARY:Students | Beast Feast
DESCRIPTION:Get ready for the most epic guys’ night at Beast Feast on Friday\, February 9 at 6pm! Meet in Lovvorn Hall for fun games with the boys and learn about what it means to be a godly man from Kevin Batista and the Students team\, and join us for the best night of the year—just for the boys. \nREGISTER HERE
URL:https://firstdallas.org/event/beastfeast/
LOCATION:Lovvorn Hall
CATEGORIES:Students
ATTACH;FMTTYPE=image/png:https://firstdallas.org/wp-content/uploads/2022/01/Beast-Feast-24-h.png
END:VEVENT
BEGIN:VEVENT
DTSTART;TZID=America/Chicago:20240209T180000
DTEND;TZID=America/Chicago:20240209T210000
DTSTAMP:20260421T051555
CREATED:20220119T161041Z
LAST-MODIFIED:20240202T161832Z
UID:1346-1707501600-1707512400@firstdallas.org
SUMMARY:Students | Sugar
DESCRIPTION:Hey ladies! Always wanted to go to London? Sugar 2024 is the next best thing! Join Daira for the sweetest Friday night of the year as the Student Center transforms into a British wonderland—just for the girls. With lots of fun surprises in store\, this passport event to London is sure to be absolutely brilliant! Join us for a sweet night on Friday\, February 9 at 6pm. \nREGISTER HERE
URL:https://firstdallas.org/event/sugar/
LOCATION:Student Center
CATEGORIES:Students
ATTACH;FMTTYPE=image/jpeg:https://firstdallas.org/wp-content/uploads/2022/01/London-TV-WIDE.jpg
END:VEVENT
END:VCALENDAR